BEGIN:VCALENDAR
VERSION:2.0
PRODID:-//Ganel-Lyn - ECPv6.15.20//NONSGML v1.0//EN
CALSCALE:GREGORIAN
METHOD:PUBLISH
X-ORIGINAL-URL:https://ganellyn.com
X-WR-CALDESC:Events for Ganel-Lyn
REFRESH-INTERVAL;VALUE=DURATION:PT1H
X-Robots-Tag:noindex
X-PUBLISHED-TTL:PT1H
BEGIN:VTIMEZONE
TZID:UTC
BEGIN:STANDARD
TZOFFSETFROM:+0000
TZOFFSETTO:+0000
TZNAME:UTC
DTSTART:20250101T000000
END:STANDARD
END:VTIMEZONE
BEGIN:VEVENT
DTSTART;TZID=UTC:20261213T190000
DTEND;TZID=UTC:20261213T200000
DTSTAMP:20260423T062048
CREATED:20260319T214838Z
LAST-MODIFIED:20260319T214838Z
UID:13950-1797188400-1797192000@ganellyn.com
SUMMARY:Riverton Wyoming Stake Fireside
DESCRIPTION:
URL:https://ganellyn.com/event/riverton-wyoming-stake-fireside/
LOCATION:Riverton Wyoming Stake\, 430 Elizabeth Dr\, Riverton\, WY 82501\, United States
END:VEVENT
END:VCALENDAR